BEGIN:VCALENDAR
VERSION:2.0
PRODID:-//ChamberMaster//Event Calendar 2.0//EN
METHOD:PUBLISH
X-PUBLISHED-TTL:P1H
REFRESH-INTERVAL:P1H
CALSCALE:GREGORIAN
BEGIN:VTIMEZONE
TZID:America/New_York
BEGIN:DAYLIGHT
RRULE:FREQ=YEARLY;BYMONTH=3;BYDAY=2SU
DTSTART:20070101T000000
TZOFFSETFROM:-0500
TZOFFSETTO:-0400
TZNAME:Eastern Daylight Time
END:DAYLIGHT
BEGIN:STANDARD
RRULE:FREQ=YEARLY;BYMONTH=11;BYDAY=1SU
DTSTART:20070101T000000
TZOFFSETFROM:-0400
TZOFFSETTO:-0500
TZNAME:Eastern Standard Time
END:STANDARD
END:VTIMEZONE
BEGIN:VEVENT
DTSTART;TZID=America/New_York:20260428T140000
DTEND;TZID=America/New_York:20260428T150000
X-MICROSOFT-CDO-ALLDAYEVENT:FALSE
SUMMARY:MLA Chats: Politics and Policies in Public Libraries
DESCRIPTION:Join us for an informational chat and Q&A with Ryan O'Grady\, Senior Lecturer and Co-Director of the Master of Library and Information Science at the University of Maryland\, about the history and political structure of public libraries.Ryan joined the UMD iSchool as a lecturer in August 2020 as an expert in leveraging libraries to support individuals' entrepreneurial and career goals\, playing a significant role locally and nationally in deepening the library's role in workforce development.He is currently the LATI Coordinator through the Maryland State Library and formerly the Deputy Director of the Enoch Pratt Free Central Library in Baltimore\, where a central focus of his was providing workforce resources to the community. Ryan provides training to librarians across Maryland and the U.S. to facilitate library-based professional development\, works with the American Library Association on its Media Literacy Education in Libraries for Adult Audiences project\, and served on a regional project for the national Urban Library Council seeking to elevate libraries as transformative institutions in workforce development.You must be logged into your MLA Account to register. If you're not sure if you're an MLA member\, please reach out to the MLA office at mla@mdlib.org.
X-ALT-DESC;FMTTYPE=text/html:<!DOCTYPE html><html><head><title></title></head><body aria-disabled="false"><p>Join us for an informational chat and Q&amp\;A with Ryan O&#39\;Grady\, Senior Lecturer and Co-Director of the Master of Library and Information Science at the University of Maryland\, about the history and political structure of public libraries.</p><p>Ryan joined the UMD iSchool as a lecturer in August 2020 as an expert in leveraging libraries to support individuals&rsquo\; entrepreneurial and career goals\, playing a significant role locally and nationally in deepening the library&rsquo\;s role in workforce development.</p><p>He is currently the LATI Coordinator through the Maryland State Library and formerly the Deputy Director of the Enoch Pratt Free Central Library in Baltimore\, where a central focus of his was providing workforce resources to the community. Ryan provides training to librarians across Maryland and the U.S. to facilitate library-based professional development\, works with the American Library Association on its Media Literacy Education in Libraries for Adult Audiences project\, and served on a regional project for the national Urban Library Council seeking to elevate libraries as transformative institutions in workforce development.</p><p><em>You must be logged into your MLA Account to register. If you&#39\;re not sure if you&#39\;re an MLA member\, please reach out to the MLA office at mla@mdlib.org.</em></p></body></html>
LOCATION:
UID:e.4141.1408032
SEQUENCE:3
DTSTAMP:20260422T150816Z
URL:https://marylandlibraryassociation.growthzoneapp.com/events/Details/mla-chats-politics-and-policies-in-public-libraries-1664138?sourceTypeId=Hub
END:VEVENT
END:VCALENDAR
